BEGIN:VCALENDAR
VERSION:2.0
PRODID:-//ACI Monthly - ECPv6.15.20//NONSGML v1.0//EN
CALSCALE:GREGORIAN
METHOD:PUBLISH
X-WR-CALNAME:ACI Monthly
X-ORIGINAL-URL:https://www.acimonthly.com
X-WR-CALDESC:Events for ACI Monthly
REFRESH-INTERVAL;VALUE=DURATION:PT1H
X-Robots-Tag:noindex
X-PUBLISHED-TTL:PT1H
BEGIN:VTIMEZONE
TZID:America/New_York
BEGIN:DAYLIGHT
TZOFFSETFROM:-0500
TZOFFSETTO:-0400
TZNAME:EDT
DTSTART:20250309T070000
END:DAYLIGHT
BEGIN:STANDARD
TZOFFSETFROM:-0400
TZOFFSETTO:-0500
TZNAME:EST
DTSTART:20251102T060000
END:STANDARD
BEGIN:DAYLIGHT
TZOFFSETFROM:-0500
TZOFFSETTO:-0400
TZNAME:EDT
DTSTART:20260308T070000
END:DAYLIGHT
BEGIN:STANDARD
TZOFFSETFROM:-0400
TZOFFSETTO:-0500
TZNAME:EST
DTSTART:20261101T060000
END:STANDARD
BEGIN:DAYLIGHT
TZOFFSETFROM:-0500
TZOFFSETTO:-0400
TZNAME:EDT
DTSTART:20270314T070000
END:DAYLIGHT
BEGIN:STANDARD
TZOFFSETFROM:-0400
TZOFFSETTO:-0500
TZNAME:EST
DTSTART:20271107T060000
END:STANDARD
END:VTIMEZONE
BEGIN:VEVENT
DTSTART;VALUE=DATE:20260328
DTEND;VALUE=DATE:20260426
DTSTAMP:20260420T223815
CREATED:20260123T224118Z
LAST-MODIFIED:20260420T154129Z
UID:987502927-1774656000-1777161599@www.acimonthly.com
SUMMARY:TAKE HIGHWAY 57
DESCRIPTION:Head down Highway 57 and take a seat at the Double-Cupp Diner for some comfort food and some toe-tappin’ country-western tunes when Pump Boys and Dinettes appears on stage at the Swift Creek Mill Theatre. \nPlease see event website for specific details on this event.
URL:https://www.acimonthly.com/event/take-highway-57/
ATTACH;FMTTYPE=image/avif:https://www.acimonthly.com/wp-content/uploads/2026/01/Copy-of-Pump-Boys-and-Dinettes.avif
END:VEVENT
BEGIN:VEVENT
DTSTART;VALUE=DATE:20260421
DTEND;VALUE=DATE:20260427
DTSTAMP:20260420T223815
CREATED:20260325T180833Z
LAST-MODIFIED:20260325T180833Z
UID:987503485-1776729600-1777247999@www.acimonthly.com
SUMMARY:FOLLOW THE YELLOW BRICK ROAD
DESCRIPTION:It leads to the Altria Theater and eight performances of The Wiz. Dorothy gets down with soul\, gospel\, rock. and 70’s funk for an evening of musical\, magical delight. \nSee event website for specific details.
URL:https://www.acimonthly.com/event/follow-the-yellow-brick-road/
ATTACH;FMTTYPE=image/webp:https://www.acimonthly.com/wp-content/uploads/2026/03/THE-WIZ.webp
END:VEVENT
BEGIN:VEVENT
DTSTART;TZID=America/New_York:20260424T180000
DTEND;TZID=America/New_York:20260424T220000
DTSTAMP:20260420T223815
CREATED:20260325T184628Z
LAST-MODIFIED:20260325T184628Z
UID:987503490-1777053600-1777068000@www.acimonthly.com
SUMMARY:ESCAPE
DESCRIPTION:Escape to the tropics without leaving Goochland. Get ready for  a Night at Tucker Concert. It’ll be a  laid-back evening of island vibes and live music at the beautiful Tucker Park\, alongside the James River. \nSee event website for specific details.
URL:https://www.acimonthly.com/event/escape/
ATTACH;FMTTYPE=image/jpeg:https://www.acimonthly.com/wp-content/uploads/2026/03/NIGHT-AT-TUCKER-TROPICS.jpeg
END:VEVENT
BEGIN:VEVENT
DTSTART;VALUE=DATE:20260425
DTEND;VALUE=DATE:20260426
DTSTAMP:20260420T223815
CREATED:20260325T172824Z
LAST-MODIFIED:20260420T154832Z
UID:987503431-1777075200-1777161599@www.acimonthly.com
SUMMARY:HAVE FUN AND RUN
DESCRIPTION:Dolly’s Color Run is back at Powhatan High School. All proceeds benefit the Powhatan Dolly Parton’s Imagination Library. Don’t forget to wear white! \nSee website for specific details.
URL:https://www.acimonthly.com/event/have-fun-and-run/
ATTACH;FMTTYPE=image/png:https://www.acimonthly.com/wp-content/uploads/2026/03/large_49eb50dc-e358-4c14-81af-1dda599b111b.png
END:VEVENT
BEGIN:VEVENT
DTSTART;VALUE=DATE:20260425
DTEND;VALUE=DATE:20260426
DTSTAMP:20260420T223815
CREATED:20260325T173047Z
LAST-MODIFIED:20260420T154327Z
UID:987503435-1777075200-1777161599@www.acimonthly.com
SUMMARY:PUT A SPRING IN YOUR STEP
DESCRIPTION:Enjoy the 20th Annual Spring Garden Fest at the Goochland Sports Complex\, featuring a plant sale\, expert advice\, garden vendors\, and much more. \nSee event website for specific details.
URL:https://www.acimonthly.com/event/put-a-spring-in-your-step/
ATTACH;FMTTYPE=image/avif:https://www.acimonthly.com/wp-content/uploads/2026/03/e1a070_27d140b852de4f5283eb2620ca75897dmv2.avif
END:VEVENT
BEGIN:VEVENT
DTSTART;VALUE=DATE:20260425
DTEND;VALUE=DATE:20260426
DTSTAMP:20260420T223815
CREATED:20260325T174831Z
LAST-MODIFIED:20260325T174831Z
UID:987503466-1777075200-1777161599@www.acimonthly.com
SUMMARY:MEET THE PUMP BOYS AT THE DINER
DESCRIPTION:Get ready to enjoy a country-western style musical in which the waitresses at the Double-Cupp Diner (the Dinettes) make great music with the Pump Boys from the gas station next door. Yes\, it’s Pump Boys and Dinettes on stage at Swift Creek Mill Theatre. \nSee event website for specific details.
URL:https://www.acimonthly.com/event/meet-the-pump-boys-at-the-diner/
ATTACH;FMTTYPE=image/avif:https://www.acimonthly.com/wp-content/uploads/2026/03/PUMP-BOYS.avif
END:VEVENT
BEGIN:VEVENT
DTSTART;TZID=America/New_York:20260425T100000
DTEND;TZID=America/New_York:20260425T160000
DTSTAMP:20260420T223815
CREATED:20260325T185811Z
LAST-MODIFIED:20260325T185811Z
UID:987503492-1777111200-1777132800@www.acimonthly.com
SUMMARY:GET ON BOARD
DESCRIPTION:It’s Train Day in Downtown Ashland. Come celebrate the love for trains with choo choos and chow\, plus live entertainment\, a Kids’ Zone\, model railroads\, and much more. \nSee event website for specific details.
URL:https://www.acimonthly.com/event/get-on-board/
ATTACH;FMTTYPE=image/jpeg:https://www.acimonthly.com/wp-content/uploads/2026/03/IMG-TRAIN-DAY-2.jpg
END:VEVENT
BEGIN:VEVENT
DTSTART;VALUE=DATE:20260428
DTEND;VALUE=DATE:20260506
DTSTAMP:20260420T223815
CREATED:20260325T172519Z
LAST-MODIFIED:20260325T172637Z
UID:987503428-1777334400-1778025599@www.acimonthly.com
SUMMARY:RETIREMENT PLANNING TODAY®
DESCRIPTION:A comprehensive 2-session educational course for adults ages 50-70. Learn how to build retirement income\, reduce taxes\, manage risk\, and make informed Social Security and distribution decisions. \nLocation: Randolph-Macon College; 200 Caroline Street\, Ashland\, VA 23005 \nTime: 6:30 – 9:30 PM \nRegister: 703-940-1878; www.rsvp.courses (Course ID: WTP181)
URL:https://www.acimonthly.com/event/retirement-planning-today/
ATTACH;FMTTYPE=image/jpeg:https://www.acimonthly.com/wp-content/uploads/2026/03/David-teaching.jpg
END:VEVENT
BEGIN:VEVENT
DTSTART;VALUE=DATE:20260501
DTEND;VALUE=DATE:20260502
DTSTAMP:20260420T223815
CREATED:20260420T151043Z
LAST-MODIFIED:20260420T151112Z
UID:987504070-1777593600-1777679999@www.acimonthly.com
SUMMARY:THE G.O.A.T WORKSHOP
DESCRIPTION:Come check out the G.O.A.T (greatest of all tutorials)\, all about goats! Whispers of Eden is presenting a goat milking class! Learn all about hands on milking and general care. \n$15 admission fee. \nCall 804-598-3163 for more information. \nWhispers of Eden\n3830 Little Fighting Creek Rd.\nPowhatan\, VA  23139\nHours: 10am – 12pm\nClosed Sunday\nWhispersofeden@gmail.com\n\n\nClasses/tours are after hours.  Private open hours for guests following the tour/classes.
URL:https://www.acimonthly.com/event/the-g-o-a-t-workshop/
ATTACH;FMTTYPE=image/jpeg:https://www.acimonthly.com/wp-content/uploads/2026/04/ritae-goat-3613728_1920.jpg
END:VEVENT
BEGIN:VEVENT
DTSTART;VALUE=DATE:20260501
DTEND;VALUE=DATE:20260503
DTSTAMP:20260420T223815
CREATED:20260325T190045Z
LAST-MODIFIED:20260325T190045Z
UID:987503495-1777593600-1777766399@www.acimonthly.com
SUMMARY:PLAY BANANA!
DESCRIPTION:The hilarious Savannah Bananas take to the field at Car Max Park for their unique brand of baseball. \nSee event website for specific details.
URL:https://www.acimonthly.com/event/play-banana/
ATTACH;FMTTYPE=image/jpeg:https://www.acimonthly.com/wp-content/uploads/2026/03/SQUIRRELS-CAR-MAX-PARK.jpeg
END:VEVENT
BEGIN:VEVENT
DTSTART;VALUE=DATE:20260502
DTEND;VALUE=DATE:20260503
DTSTAMP:20260420T223815
CREATED:20260420T152054Z
LAST-MODIFIED:20260420T153011Z
UID:987504074-1777680000-1777766399@www.acimonthly.com
SUMMARY:BRANCH OUT
DESCRIPTION:Whispers of Eden presents a polyculture food forest teaching tour! Experience hands on learning about polyculture orchards.\n$15 admission fee. \nCall 804-598-3163 for more information. \nWhispers of Eden\n3830 Little Fighting Creek Rd.\nPowhatan\, VA  23139\nHours: 10am – 12pm\nClosed Sunday\nWhispersofeden@gmail.com\n\n\nClasses/tours are after hours.  Private open hours for guests following the tour/classes.
URL:https://www.acimonthly.com/event/branch-out/
ATTACH;FMTTYPE=image/jpeg:https://www.acimonthly.com/wp-content/uploads/2026/04/poly.jpg
END:VEVENT
BEGIN:VEVENT
DTSTART;TZID=America/New_York:20260502T160000
DTEND;TZID=America/New_York:20260502T190000
DTSTAMP:20260420T223815
CREATED:20260325T190224Z
LAST-MODIFIED:20260420T154012Z
UID:987503497-1777737600-1777748400@www.acimonthly.com
SUMMARY:IT’S DERBY DAY!
DESCRIPTION:Enjoy live music\, food trucks and some great COTU brews when the Center of the Universe Brewing Company celebrates Derby Day. They’ll even have a Mint Julep brew\, as well as other adult beverages. \nSee event website for specific details.
URL:https://www.acimonthly.com/event/its-derby-day/
ATTACH;FMTTYPE=image/jpeg:https://www.acimonthly.com/wp-content/uploads/2026/03/Kentucky-Derby_IG_REV-400x400-1.jpg
END:VEVENT
BEGIN:VEVENT
DTSTART;TZID=America/New_York:20260502T193000
DTEND;TZID=America/New_York:20260502T210000
DTSTAMP:20260420T223815
CREATED:20260325T190357Z
LAST-MODIFIED:20260325T190357Z
UID:987503499-1777750200-1777755600@www.acimonthly.com
SUMMARY:LOOK FOR THE BAT-SIGNAL
DESCRIPTION:It’ll be shining over the Altria Theater where Batman™ ’89 will be playing on the big screen accompanied\, live\, by the Richmond Symphony. \nSee event website for specific details.
URL:https://www.acimonthly.com/event/look-for-the-bat-signal/
ATTACH;FMTTYPE=image/jpeg:https://www.acimonthly.com/wp-content/uploads/2026/03/BATMAN-CONCERT.jpeg
END:VEVENT
BEGIN:VEVENT
DTSTART;TZID=America/New_York:20260503T193000
DTEND;TZID=America/New_York:20260503T220000
DTSTAMP:20260420T223815
CREATED:20260420T161252Z
LAST-MODIFIED:20260420T161314Z
UID:987504100-1777836600-1777845600@www.acimonthly.com
SUMMARY:TICKLE THE IVORIES
DESCRIPTION:It’s Ben Folds and a Piano. Need we say more? Except\, that you can catch them both at the CarpenterTheatre at Dominion Energy Center. \nSee event website for specific details.
URL:https://www.acimonthly.com/event/tickle-the-ivories/
ATTACH;FMTTYPE=image/webp:https://www.acimonthly.com/wp-content/uploads/2026/04/IMG-FUN-THINGS-BEN-FOLDS.webp
END:VEVENT
BEGIN:VEVENT
DTSTART;VALUE=DATE:20260507
DTEND;VALUE=DATE:20260511
DTSTAMP:20260420T223815
CREATED:20260325T190529Z
LAST-MODIFIED:20260420T154513Z
UID:987503501-1778112000-1778457599@www.acimonthly.com
SUMMARY:BREAK A LEG
DESCRIPTION:The Broken Leg Theatre partners up with the Perkinson Center for a presentation of Lionel Bart’s Oliver. See it once and you’ll be saying\, “Please sir\, may I have some more?” \nSee event website for specific details.
URL:https://www.acimonthly.com/event/break-a-leg/
ATTACH;FMTTYPE=image/jpeg:https://www.acimonthly.com/wp-content/uploads/2026/03/oliver.jpeg
END:VEVENT
BEGIN:VEVENT
DTSTART;VALUE=DATE:20260507
DTEND;VALUE=DATE:20260511
DTSTAMP:20260420T223815
CREATED:20260420T161517Z
LAST-MODIFIED:20260420T161517Z
UID:987504102-1778112000-1778457599@www.acimonthly.com
SUMMARY:DISCOVER WHAT THE DICKENS IS GOING ON
DESCRIPTION:The Broken Leg Theatre partners up with the Perkinson Center for a presentation of Lionel Bart’s Oliver\, based on Charles Dickens’ novel Oliver Twist. See it once and you’ll be saying\, “Please sir\, may I have some more?” \nSee event website for specific details.
URL:https://www.acimonthly.com/event/discover-what-the-dickens-is-going-on/
ATTACH;FMTTYPE=image/jpeg:https://www.acimonthly.com/wp-content/uploads/2026/03/oliver.jpeg
END:VEVENT
BEGIN:VEVENT
DTSTART;VALUE=DATE:20260509
DTEND;VALUE=DATE:20260510
DTSTAMP:20260420T223815
CREATED:20260420T161747Z
LAST-MODIFIED:20260420T161747Z
UID:987504104-1778284800-1778371199@www.acimonthly.com
SUMMARY:BUCKLE UP
DESCRIPTION:Here’s your chance to drive a real racecar at Richmond Raceway. Enjoy an honest-to-goodness NASCAR Driving Experience. It’s just you behind the wheel for a once-in-a-lifetime experience. For the slightly less daring\, ride shotgun at high speed with a professional race car driver behind the wheel. \nSee event website for specific details.
URL:https://www.acimonthly.com/event/buckle-up/
ATTACH;FMTTYPE=image/jpeg:https://www.acimonthly.com/wp-content/uploads/2026/04/NRE-Best-Experience-Ever-1080x1080-Richmond.jpg
END:VEVENT
BEGIN:VEVENT
DTSTART;TZID=America/New_York:20260509T110000
DTEND;TZID=America/New_York:20260509T150000
DTSTAMP:20260420T223815
CREATED:20260325T184357Z
LAST-MODIFIED:20260420T154606Z
UID:987503487-1778324400-1778338800@www.acimonthly.com
SUMMARY:SHOP AT THE MARKET
DESCRIPTION:Hosted by the Willow Collaborative\, “The Market” will feature a variety of local artisans and vendors at Village Park in Powhatan. \nSee event website for specific details.
URL:https://www.acimonthly.com/event/shop-at-the-market/
ATTACH;FMTTYPE=image/webp:https://www.acimonthly.com/wp-content/uploads/2026/03/LEMONThe3.webp
END:VEVENT
BEGIN:VEVENT
DTSTART;VALUE=DATE:20260512
DTEND;VALUE=DATE:20260518
DTSTAMP:20260420T223815
CREATED:20260420T162027Z
LAST-MODIFIED:20260420T162027Z
UID:987504109-1778544000-1779062399@www.acimonthly.com
SUMMARY:FIND OUT WHAT IF
DESCRIPTION:What if Juliet really didn’t end it all over Romeo? What if she ditched her famous ending for a fresh beginning.? Find out what if when the hit Broadway musical “& Juliet” takes to the Altria Theater stage. \nSee event website for specific details.
URL:https://www.acimonthly.com/event/find-out-what-if/
ATTACH;FMTTYPE=image/webp:https://www.acimonthly.com/wp-content/uploads/2026/04/IMG-FUN-THINGS-JULIET.webp
END:VEVENT
BEGIN:VEVENT
DTSTART;VALUE=DATE:20260515
DTEND;VALUE=DATE:20260517
DTSTAMP:20260420T223815
CREATED:20260420T152406Z
LAST-MODIFIED:20260420T152908Z
UID:987504076-1778803200-1778975999@www.acimonthly.com
SUMMARY:A "TREE-MENDOUS" DEAL
DESCRIPTION:Whispers of Eden presents their Annual Spring Potted Fruit Tree Sale! All potted fruits\, nuts\, herbs\, and pollinator trees will be discounted 10-15% OFF!\nCall 804-598-3163 for more information. \nWhispers of Eden\n3830 Little Fighting Creek Rd.\nPowhatan\, VA  23139\nHours: 10am – 12pm\nClosed Sunday\nWhispersofeden@gmail.com\n\n\nClasses/tours are after hours.  Private open hours for guests following the tour/classes.
URL:https://www.acimonthly.com/event/a-tree-mendous-deal/
ATTACH;FMTTYPE=image/jpeg:https://www.acimonthly.com/wp-content/uploads/2026/04/668849744_974536548413022_730471758699258741_n.jpg
END:VEVENT
BEGIN:VEVENT
DTSTART;VALUE=DATE:20260515
DTEND;VALUE=DATE:20260518
DTSTAMP:20260420T223815
CREATED:20260420T162138Z
LAST-MODIFIED:20260420T164648Z
UID:987504111-1778803200-1779062399@www.acimonthly.com
SUMMARY:GET READY FOR THE BEST PARTY IN TOWN
DESCRIPTION:That’s what the promoters are calling this year’s Powhatan County Fair. There’ll be midway rides\, pro-wrestling\, helicopter rides\, pony rides\, magic shows\, and so much more. It all happens at the Powhatan County Fairgrounds. \nSee event website for specific details.
URL:https://www.acimonthly.com/event/get-ready-for-the-best-party-in-town/
ATTACH;FMTTYPE=image/jpeg:https://www.acimonthly.com/wp-content/uploads/2026/04/IMG-FUN-THINGS-POWHATAN-COUNTY-FAIR.jpeg
END:VEVENT
BEGIN:VEVENT
DTSTART;TZID=America/New_York:20260515T110000
DTEND;TZID=America/New_York:20260515T140000
DTSTAMP:20260420T223815
CREATED:20260420T162633Z
LAST-MODIFIED:20260420T162633Z
UID:987504119-1778842800-1778853600@www.acimonthly.com
SUMMARY:HAVE A FIELD DAY
DESCRIPTION:Meadow Farm presents its 4th annual Farm Field Day. Learn about agricultural practices\, trades\, and crafts of days past. Local craftsmen and businesses will be demonstrating their trades and selling wares. Create crafts\, enjoy food trucks\, and learn about farm practices. \nSee event website for specific details.
URL:https://www.acimonthly.com/event/have-a-field-day/
END:VEVENT
BEGIN:VEVENT
DTSTART;TZID=America/New_York:20260515T183000
DTEND;TZID=America/New_York:20260515T210000
DTSTAMP:20260420T223815
CREATED:20260420T162246Z
LAST-MODIFIED:20260420T162246Z
UID:987504113-1778869800-1778878800@www.acimonthly.com
SUMMARY:GO CRAZY
DESCRIPTION:Head to the Crazy Rooster Brewery for the feel-good music of the Biologics along with some fantastic fresh brews. \nSee event website for specific details.
URL:https://www.acimonthly.com/event/go-crazy/
ATTACH;FMTTYPE=image/jpeg:https://www.acimonthly.com/wp-content/uploads/2026/04/IMG-FUN-THINGS-BIOLOGICS-AT-CRAZY-ROOSTER.jpeg
END:VEVENT
BEGIN:VEVENT
DTSTART;TZID=America/New_York:20260515T193000
DTEND;TZID=America/New_York:20260515T220000
DTSTAMP:20260420T223815
CREATED:20260420T162354Z
LAST-MODIFIED:20260420T162354Z
UID:987504115-1778873400-1778882400@www.acimonthly.com
SUMMARY:BOOGIE BACK TO TEXAS
DESCRIPTION:It’s Texas Swing at its best. Asleep at the Wheel hits the Beacon Theatre stage with their unique blend of Western Swing and Honky Tonk Country. \nSee event website for specific details.
URL:https://www.acimonthly.com/event/boogie-back-to-texas/
ATTACH;FMTTYPE=image/webp:https://www.acimonthly.com/wp-content/uploads/2026/04/IMG-FUN-THINGS-ASLEEP-AT-THE-WHEEL.webp
END:VEVENT
BEGIN:VEVENT
DTSTART;VALUE=DATE:20260516
DTEND;VALUE=DATE:20260517
DTSTAMP:20260420T223815
CREATED:20260420T162732Z
LAST-MODIFIED:20260420T162732Z
UID:987504121-1778889600-1778975999@www.acimonthly.com
SUMMARY:MEET AT THE PLAYGROUND
DESCRIPTION:The Generational Playground will be playing the classic hits of the 70s\, 80s\, and 90s at the County Seat Restaurant & Gathering Place. \nSee event website for specific details.
URL:https://www.acimonthly.com/event/meet-at-the-playground/
ATTACH;FMTTYPE=image/jpeg:https://www.acimonthly.com/wp-content/uploads/2026/04/IMG-FUN-THINGS-GENERATIONAL-PLAYGROUND.jpeg
END:VEVENT
BEGIN:VEVENT
DTSTART;TZID=America/New_York:20260516T100000
DTEND;TZID=America/New_York:20260516T160000
DTSTAMP:20260420T223815
CREATED:20260420T162523Z
LAST-MODIFIED:20260420T162523Z
UID:987504117-1778925600-1778947200@www.acimonthly.com
SUMMARY:CELEBRATE CREATIVITY
DESCRIPTION:It’s the Art Factory’s Spring Festival bringing together talented local artisans\, makers\, and young creatives for a lively day of shopping\, exploring\, and connecting. You can connect at 4810 Market Square Lane in Midlothian. \nSee event website for specific details.
URL:https://www.acimonthly.com/event/celebrate-creativity/
END:VEVENT
BEGIN:VEVENT
DTSTART;TZID=America/New_York:20260516T200000
DTEND;TZID=America/New_York:20260516T223000
DTSTAMP:20260420T223815
CREATED:20260420T162844Z
LAST-MODIFIED:20260420T162844Z
UID:987504123-1778961600-1778970600@www.acimonthly.com
SUMMARY:RIDE THE RANGE
DESCRIPTION:The 2018 International Bluegrass Music Association’s Entertainer of the Year\, Balsam Range appears on stage at the Ashland Theatre. \nSee event website for specific details.
URL:https://www.acimonthly.com/event/ride-the-range/
ATTACH;FMTTYPE=image/webp:https://www.acimonthly.com/wp-content/uploads/2026/04/IMG-FUN-THINGS-BALSAM-RANGE.webp
END:VEVENT
BEGIN:VEVENT
DTSTART;TZID=America/New_York:20260522T193000
DTEND;TZID=America/New_York:20260523T220000
DTSTAMP:20260420T223815
CREATED:20260420T163018Z
LAST-MODIFIED:20260420T163101Z
UID:987504125-1779478200-1779573600@www.acimonthly.com
SUMMARY:ENJOY SOME ROPING AND RIDING
DESCRIPTION:There’ll be plenty of bull riding\, cowgirl barrel racing\, team roping\, and much more when all the cowpokes from Longbranch Rodeo perform at 2693 Rocky Oak Road in Powhatan. \nSee event website for specific details.
URL:https://www.acimonthly.com/event/enjoy-some-roping-and-riding/
ATTACH;FMTTYPE=image/png:https://www.acimonthly.com/wp-content/uploads/2026/04/unnamed-1.png
END:VEVENT
BEGIN:VEVENT
DTSTART;TZID=America/New_York:20260525T200000
DTEND;TZID=America/New_York:20260525T220000
DTSTAMP:20260420T223815
CREATED:20260420T163347Z
LAST-MODIFIED:20260420T164611Z
UID:987504128-1779739200-1779746400@www.acimonthly.com
SUMMARY:GET STUNG
DESCRIPTION:Gordon Matthew Thomas Sumner\, better known as Sting\, is joined by guitarist Dominic Miller and drummer Chris Maas at the Allianz Amphitheater for the Richmond stop on their Sting 3.0 Tour. \nSee event website for specific details.
URL:https://www.acimonthly.com/event/get-stung/
ATTACH;FMTTYPE=image/webp:https://www.acimonthly.com/wp-content/uploads/2026/04/IMG-FUN-THINGS-STING.webp
END:VEVENT
BEGIN:VEVENT
DTSTART;TZID=America/New_York:20260529T180000
DTEND;TZID=America/New_York:20260529T210000
DTSTAMP:20260420T223815
CREATED:20260420T163512Z
LAST-MODIFIED:20260420T164542Z
UID:987504130-1780077600-1780088400@www.acimonthly.com
SUMMARY:PLAY DEAD
DESCRIPTION:The Richmond-based Suggesting Rhythm Band brings the music of the Grateful Dead to Life at Hidden Wit Brewing Company. \nSee event website for specific details.
URL:https://www.acimonthly.com/event/play-dead/
ATTACH;FMTTYPE=image/webp:https://www.acimonthly.com/wp-content/uploads/2026/04/IMG-FUN-THINGS-SUGGESTING-RHYTHM.webp
END:VEVENT
END:VCALENDAR