BEGIN:VCALENDAR
VERSION:2.0
PRODID:-//ACI Monthly - ECPv6.15.20//NONSGML v1.0//EN
CALSCALE:GREGORIAN
METHOD:PUBLISH
X-WR-CALNAME:ACI Monthly
X-ORIGINAL-URL:https://www.acimonthly.com
X-WR-CALDESC:Events for ACI Monthly
REFRESH-INTERVAL;VALUE=DURATION:PT1H
X-Robots-Tag:noindex
X-PUBLISHED-TTL:PT1H
BEGIN:VTIMEZONE
TZID:America/New_York
BEGIN:DAYLIGHT
TZOFFSETFROM:-0500
TZOFFSETTO:-0400
TZNAME:EDT
DTSTART:20250309T070000
END:DAYLIGHT
BEGIN:STANDARD
TZOFFSETFROM:-0400
TZOFFSETTO:-0500
TZNAME:EST
DTSTART:20251102T060000
END:STANDARD
BEGIN:DAYLIGHT
TZOFFSETFROM:-0500
TZOFFSETTO:-0400
TZNAME:EDT
DTSTART:20260308T070000
END:DAYLIGHT
BEGIN:STANDARD
TZOFFSETFROM:-0400
TZOFFSETTO:-0500
TZNAME:EST
DTSTART:20261101T060000
END:STANDARD
BEGIN:DAYLIGHT
TZOFFSETFROM:-0500
TZOFFSETTO:-0400
TZNAME:EDT
DTSTART:20270314T070000
END:DAYLIGHT
BEGIN:STANDARD
TZOFFSETFROM:-0400
TZOFFSETTO:-0500
TZNAME:EST
DTSTART:20271107T060000
END:STANDARD
END:VTIMEZONE
BEGIN:VEVENT
DTSTART;TZID=America/New_York:20260606T100000
DTEND;TZID=America/New_York:20260606T170000
DTSTAMP:20260421T073346
CREATED:20260420T164205Z
LAST-MODIFIED:20260420T164205Z
UID:987504146-1780740000-1780765200@www.acimonthly.com
SUMMARY:JUICE IT UP!
DESCRIPTION:Celebrate the juicy goodness of the strawberry at the Ashland Strawberry Faire. Grab a free trolley and visit 300+ vendors\, including arts & crafts\, non-profits\, food\, and local businesses on the beautiful tree-lined campus of Randolph-Macon College. \nSee event website for specific details.
URL:https://www.acimonthly.com/event/juice-it-up/
ATTACH;FMTTYPE=image/jpeg:https://www.acimonthly.com/wp-content/uploads/2026/04/IMG-FUN-THINGS-ASHLAND-STRAWBERRY-FAIRE.jpeg
END:VEVENT
BEGIN:VEVENT
DTSTART;TZID=America/New_York:20260611T190000
DTEND;TZID=America/New_York:20260611T220000
DTSTAMP:20260421T073346
CREATED:20260420T164252Z
LAST-MODIFIED:20260420T164252Z
UID:987504148-1781204400-1781215200@www.acimonthly.com
SUMMARY:SOAR BACK TO THE SEVENTIES
DESCRIPTION:Prepare to be transported back to the vibrant 1970s as New York City’s premier ABBA tribute band\, Mamma Mania! brings the classic hits of one of pop music’s most iconic groups to life on stage at the Ashland Theatre. \nSee event website for specific details.
URL:https://www.acimonthly.com/event/soar-back-to-the-seventies/
ATTACH;FMTTYPE=image/png:https://www.acimonthly.com/wp-content/uploads/2026/04/IMG-FUN-THINGS-ABBA-TRIBUTE.png
END:VEVENT
END:VCALENDAR